BEGIN:VCALENDAR
VERSION:2.0
PRODID:-//wp-events-plugin.com//7.2.3.1//EN
BEGIN:VEVENT
UID:183@ecampus.aicel.org
DTSTART;TZID=Europe/Rome:20240418T160000
DTEND;TZID=Europe/Rome:20240418T170000
DTSTAMP:20240417T101237Z
URL:https://ecampus.aicel.org/corsi/ai-ed-ecommerce
SUMMARY:AI ed eCommerce -  - 18 Apr 24 16:00
DESCRIPTION:Strumenti\, impieghi\, limiti e rischi dell'Intelligenza Artifi
 ciale Generativa nelle attività ecommerce.
ATTACH;FMTTYPE=image/jpeg:https://ecampus.aicel.org/wp-content/uploads/AND
 REA-BOSCARO-AI-ED-ECOMMERCE.png
CATEGORIES:Gli aspetti pratici dell’e-commerce,Vendere Grazie al
 Digitale
END:VEVENT
BEGIN:VTIMEZONE
TZID:Europe/Rome
X-LIC-LOCATION:Europe/Rome
BEGIN:DAYLIGHT
DTSTART:20240331T030000
TZOFFSETFROM:+0100
TZOFFSETTO:+0200
TZNAME:CEST
END:DAYLIGHT
END:VTIMEZONE
END:VCALENDAR