BEGIN:VCALENDAR
VERSION:2.0
PRODID:-//wp-events-plugin.com//7.2.3.1//EN
BEGIN:VEVENT
UID:76@ecampus.aicel.org
DTSTART:20170711T070000Z
DTEND:20170711T160000Z
DTSTAMP:20170703T115351Z
URL:https://ecampus.aicel.org/corsi/acquisire-clienti-e-fidelizzarli-attra
 verso-facebook-e-instagram
SUMMARY:Acquisire clienti e fidelizzarli attraverso Facebook e Instagram - 
 Brescia Flero. Sede AICEL - 11 Lug 17 09:00
DESCRIPTION:\nDOCENTE: Andrea Boscaro\n\nDATA: 11 luglio 2017\n\nDURATA: 
 dalle ore 09:00 alle ore 18:00\n\nLOCATION: Brescia (in definizione)\n\n
 POSTI DISPONIBILI: 25\nLa diffusione dei social media ed il fatto che essi
  vengono sempre più utilizzati in app specifiche attraverso gli smartphon
 e rende più complesso immaginare una strategia legata alla pure generazio
 ne di traffico qualificato sul sito: per questo motivo occorre\, come merc
 hant\, sviluppare  professionalità nell'uso delle soluzioni di marketing
  che Facebook offre ed accostare al traffico sul sito ulteriori iniziative
  di gestione della presenza social.\nIl corso affronterà pertanto sul pia
 no strategico quali sono questi obiettivi - dal customer care alla reputaz
 ione online - fino ad entrare\, con tecniche ed esempi\, nella definizione
  di un piano editoriale capace di cavalcare l'algoritmo di Facebook e nell
 a osservazione delle forme di pubblicità a performance offerte da Faceboo
 k\, da Instagram e dai principali social media.\n\nPROGRAMMA\n\n 	Gestione
  della reputazione online attraverso una strategia di ascolto e gestione d
 ei commenti sui social media.\n 	Modello di replica alle criticità che em
 ergono.\n 	Uso della Pagina Facebook ed algoritmo che regola la visibilit
 à organica dei post.\n 	Social login e Social CRM.\n 	L'Opengraph e le nu
 ove funzionalità di marketing e di retargeting che Facebook (e Instagram)
  offrono ai merchant.\n\nA CHI SI RIVOLGE?\nImprenditori\, aziende\, PMI c
 he intendono entrare nel mondo ecommerce.\nSocial Media Strategist\, eStor
 e Manager e Web marketing managers.\nLiberi professionisti e consulenti az
 iendali.\nPREZZO: Il costo è comprensivo di coffee-break e materiale did
 attico\n\n 	Quota standard: Euro 249\,00+IVA Euro 149\,00+IVA per iscriz
 ioni entro il 21 maggio 2017 (limitato a 10 posti)\n 	Sconto riservato S
 oci AICEL: Euro 149\,00+IVA Euro 79\,00+IVA per iscrizioni entro il 21 m
 aggio 2017 (limitato a 10 posti)\n\nIl corso sarà attivato con l'iscrizio
 ne di almeno 15 partecipanti\; l'organizzazione si riserva di attivare il 
 corso anche in presenza di un minor numero di iscritti.
ATTACH;FMTTYPE=image/jpeg:https://ecampus.aicel.org/wp-content/uploads/Soc
 ial-Media-Boscaro.jpg
CATEGORIES:Vendere Grazie al Digitale
LOCATION:Brescia Flero. Sede AICEL\, Via F. Lana\, 5\, FLERO\, BS\, 25020\,
  Lombardia\, Italia
GEO:45.4839371;10.149830500000007
X-APPLE-STRUCTURED-LOCATION;VALUE=URI;X-ADDRESS=Via F. Lana\, 5\, FLERO\, B
 S\, 25020\, Lombardia\, Italia;X-APPLE-RADIUS=100;X-TITLE=Brescia Flero. S
 ede AICEL:geo:45.4839371,10.149830500000007
END:VEVENT
END:VCALENDAR