BEGIN:VCALENDAR
VERSION:2.0
PRODID:-//wp-events-plugin.com//7.2.3.1//EN
BEGIN:VEVENT
UID:156@ecampus.aicel.org
DTSTART;TZID=Europe/Rome:20210910T110000
DTEND;TZID=Europe/Rome:20210910T120000
DTSTAMP:20210909T145615Z
URL:https://ecampus.aicel.org/corsi/accrescere-la-visibilita-e-la-credibil
 ita-del-tuo-ecommerce-con-i-servizi-eshoppingadvisor
SUMMARY:Accrescere la visibilità e la credibilità del tuo ecommerce con i
  servizi eShoppingAdvisor -  - 10 Set 21 11:00
DESCRIPTION:E-ShoppingAdvisor\, una piattaforma pensata per migliorare le p
 restazioni degli ecommerce italiani di piccole e medie dimensioni potendo 
 inserire i loro prodotti su un motore di ricerca composto esclusivamente d
 a rivenditori italiani e di qualità certificata e entrando a far parte di
  una community virtuose.
ATTACH;FMTTYPE=image/jpeg:https://ecampus.aicel.org/wp-content/uploads/AIC
 EL-Webinar-10-settembre-nl.png
CATEGORIES:Vendere Grazie al Digitale
END:VEVENT
BEGIN:VTIMEZONE
TZID:Europe/Rome
X-LIC-LOCATION:Europe/Rome
BEGIN:DAYLIGHT
DTSTART:20210328T030000
TZOFFSETFROM:+0100
TZOFFSETTO:+0200
TZNAME:CEST
END:DAYLIGHT
END:VTIMEZONE
END:VCALENDAR