BEGIN:VCALENDAR
VERSION:2.0
PRODID:-//wp-events-plugin.com//7.2.3.1//EN
BEGIN:VEVENT
UID:99@ecampus.aicel.org
DTSTART:20180423T070000Z
DTEND:20180424T160000Z
DTSTAMP:20231209T152126Z
URL:https://ecampus.aicel.org/corsi/4-corso-agenzie-accreditate-certifico-
 lecommerce-competente
SUMMARY:IV Corso Agenzie Accreditate Certifico - l'eCommerce competente - E
 vento On Line - 23 Apr 18 09:00
DESCRIPTION:L'iniziativa si occuperà di formare\, sostenere e supportare l
 e figure professionali che offrono i propri servizi al mondo ecommerce
ATTACH;FMTTYPE=image/jpeg:https://ecampus.aicel.org/wp-content/uploads/ACC
 REDITO-AGENZIE.jpg
CATEGORIES:Certifico - eCommerce Competente,Formazione Professionisti
 eCommerce
LOCATION:Evento On Line\, Google\, Webinar [Meet]\, Italia
X-APPLE-STRUCTURED-LOCATION;VALUE=URI;X-ADDRESS=Google\, Webinar [Meet]\, I
 talia;X-APPLE-RADIUS=100;X-TITLE=Evento On Line:geo:0,0
END:VEVENT
END:VCALENDAR